BEGIN:VCALENDAR
VERSION:2.0
PRODID:-//wp-events-plugin.com//7.2.3.1//EN
TZID:Europe/London
X-WR-TIMEZONE:Europe/London
BEGIN:VEVENT
UID:2@ringmerparishcouncil.gov.uk
DTSTART;TZID=Europe/London:20240826T003000
DTEND;TZID=Europe/London:20240826T170000
DTSTAMP:20231110T124735Z
URL:https://ringmerparishcouncil.gov.uk/events/picnic-on-the-green
SUMMARY:Picnic on the Green
DESCRIPTION:
ATTACH;FMTTYPE=image/jpeg:https://ringmerparishcouncil.gov.uk/wp-content/u
 ploads/2023/11/web-defualt-fi.png
CATEGORIES:Local Events
END:VEVENT
BEGIN:VTIMEZONE
TZID:Europe/London
X-LIC-LOCATION:Europe/London
BEGIN:DAYLIGHT
DTSTART:20240331T020000
TZOFFSETFROM:+0000
TZOFFSETTO:+0100
TZNAME:BST
END:DAYLIGHT
END:VTIMEZONE
END:VCALENDAR